BEGIN:VCALENDAR
VERSION:2.0
PRODID:-//Hightower Baptist Church - ECPv4.9.3.2//NONSGML v1.0//EN
CALSCALE:GREGORIAN
METHOD:PUBLISH
X-WR-CALNAME:Hightower Baptist Church
X-ORIGINAL-URL:http://hightowerbaptistchurch.com
X-WR-CALDESC:Events for Hightower Baptist Church
BEGIN:VEVENT
DTSTART;TZID=America/New_York:20260913T091500
DTEND;TZID=America/New_York:20260913T100000
DTSTAMP:20260424T114829
CREATED:20260103T205307Z
LAST-MODIFIED:20260103T205307Z
UID:8802-1789290900-1789293600@hightowerbaptistchurch.com
SUMMARY:Sunday School
DESCRIPTION:
URL:http://hightowerbaptistchurch.com/event/sunday-school-10/2026-09-13/
LOCATION:3444 Hightower Road\, Ball Ground\, GA\, 30107\, United States
END:VEVENT
BEGIN:VEVENT
DTSTART;TZID=America/New_York:20260913T100000
DTEND;TZID=America/New_York:20260913T110000
DTSTAMP:20260424T114829
CREATED:20260103T205434Z
LAST-MODIFIED:20260103T205434Z
UID:8856-1789293600-1789297200@hightowerbaptistchurch.com
SUMMARY:Worship Service
DESCRIPTION:
URL:http://hightowerbaptistchurch.com/event/worship-service-6/2026-09-13/
LOCATION:3444 Hightower Road\, Ball Ground\, GA\, 30107\, United States
END:VEVENT
END:VCALENDAR