BEGIN:VCALENDAR
VERSION:2.0
PRODID:-//Hightower Baptist Church - ECPv4.9.3.2//NONSGML v1.0//EN
CALSCALE:GREGORIAN
METHOD:PUBLISH
X-WR-CALNAME:Hightower Baptist Church
X-ORIGINAL-URL:http://hightowerbaptistchurch.com
X-WR-CALDESC:Events for Hightower Baptist Church
BEGIN:VEVENT
DTSTART;TZID=America/New_York:20260830T091500
DTEND;TZID=America/New_York:20260830T100000
DTSTAMP:20260421T204111
CREATED:20260103T205307Z
LAST-MODIFIED:20260103T205307Z
UID:8800-1788081300-1788084000@hightowerbaptistchurch.com
SUMMARY:Sunday School
DESCRIPTION:
URL:http://hightowerbaptistchurch.com/event/sunday-school-10/2026-08-30/
LOCATION:3444 Hightower Road\, Ball Ground\, GA\, 30107\, United States
END:VEVENT
BEGIN:VEVENT
DTSTART;TZID=America/New_York:20260830T093000
DTEND;TZID=America/New_York:20260830T100000
DTSTAMP:20260421T204111
CREATED:20260103T215319Z
LAST-MODIFIED:20260103T215319Z
UID:8941-1788082200-1788084000@hightowerbaptistchurch.com
SUMMARY:Sunday School elections
DESCRIPTION:
URL:http://hightowerbaptistchurch.com/event/sunday-school-elections-4/
LOCATION:3444 Hightower Road\, Ball Ground\, GA\, 30107\, United States
END:VEVENT
BEGIN:VEVENT
DTSTART;TZID=America/New_York:20260830T100000
DTEND;TZID=America/New_York:20260830T110000
DTSTAMP:20260421T204111
CREATED:20260103T205434Z
LAST-MODIFIED:20260103T205434Z
UID:8854-1788084000-1788087600@hightowerbaptistchurch.com
SUMMARY:Worship Service
DESCRIPTION:
URL:http://hightowerbaptistchurch.com/event/worship-service-6/2026-08-30/
LOCATION:3444 Hightower Road\, Ball Ground\, GA\, 30107\, United States
END:VEVENT
END:VCALENDAR