BEGIN:VCALENDAR
VERSION:2.0
PRODID:-//Hightower Baptist Church - ECPv4.9.3.2//NONSGML v1.0//EN
CALSCALE:GREGORIAN
METHOD:PUBLISH
X-WR-CALNAME:Hightower Baptist Church
X-ORIGINAL-URL:http://hightowerbaptistchurch.com
X-WR-CALDESC:Events for Hightower Baptist Church
BEGIN:VEVENT
DTSTART;TZID=America/New_York:20260823T091500
DTEND;TZID=America/New_York:20260823T100000
DTSTAMP:20260422T055757
CREATED:20260103T205307Z
LAST-MODIFIED:20260103T205307Z
UID:8799-1787476500-1787479200@hightowerbaptistchurch.com
SUMMARY:Sunday School
DESCRIPTION:
URL:http://hightowerbaptistchurch.com/event/sunday-school-10/2026-08-23/
LOCATION:3444 Hightower Road\, Ball Ground\, GA\, 30107\, United States
END:VEVENT
BEGIN:VEVENT
DTSTART;TZID=America/New_York:20260823T100000
DTEND;TZID=America/New_York:20260823T110000
DTSTAMP:20260422T055757
CREATED:20260103T205434Z
LAST-MODIFIED:20260103T205434Z
UID:8853-1787479200-1787482800@hightowerbaptistchurch.com
SUMMARY:Worship Service
DESCRIPTION:
URL:http://hightowerbaptistchurch.com/event/worship-service-6/2026-08-23/
LOCATION:3444 Hightower Road\, Ball Ground\, GA\, 30107\, United States
END:VEVENT
END:VCALENDAR