BEGIN:VCALENDAR
VERSION:2.0
PRODID:-//Hightower Baptist Church - ECPv4.9.3.2//NONSGML v1.0//EN
CALSCALE:GREGORIAN
METHOD:PUBLISH
X-WR-CALNAME:Hightower Baptist Church
X-ORIGINAL-URL:http://hightowerbaptistchurch.com
X-WR-CALDESC:Events for Hightower Baptist Church
BEGIN:VEVENT
DTSTART;TZID=America/New_York:20260122T110000
DTEND;TZID=America/New_York:20260122T120000
DTSTAMP:20260425T024739
CREATED:20260103T210103Z
LAST-MODIFIED:20260103T210103Z
UID:8893-1769079600-1769083200@hightowerbaptistchurch.com
SUMMARY:Young at Heart lunch in the fellowship hall
DESCRIPTION:
URL:http://hightowerbaptistchurch.com/event/young-at-heart-lunch-in-the-fellowship-hall/
LOCATION:3444 Hightower Road\, Ball Ground\, GA\, 30107\, United States
END:VEVENT
END:VCALENDAR