BEGIN:VCALENDAR
VERSION:2.0
PRODID:-//Hightower Baptist Church - ECPv4.9.3.2//NONSGML v1.0//EN
CALSCALE:GREGORIAN
METHOD:PUBLISH
X-WR-CALNAME:Hightower Baptist Church
X-ORIGINAL-URL:http://hightowerbaptistchurch.com
X-WR-CALDESC:Events for Hightower Baptist Church
BEGIN:VEVENT
DTSTART;TZID=America/New_York:20230425T190000
DTEND;TZID=America/New_York:20230425T210000
DTSTAMP:20260419T125343
CREATED:20230206T173000Z
LAST-MODIFIED:20230206T173701Z
UID:5122-1682449200-1682456400@hightowerbaptistchurch.com
SUMMARY:VBS Clinic - Friendship Baptist Church
DESCRIPTION:2250 Friendship Circle\nCumming\, GA. 30028 \n
URL:http://hightowerbaptistchurch.com/event/vbs-clinic/2023-04-25/
LOCATION:3444 Hightower Road\, Ball Ground\, GA\, 30107\, United States
END:VEVENT
END:VCALENDAR