BEGIN:VCALENDAR
VERSION:2.0
PRODID:-//Hightower Baptist Church - ECPv4.9.3.2//NONSGML v1.0//EN
CALSCALE:GREGORIAN
METHOD:PUBLISH
X-WR-CALNAME:Hightower Baptist Church
X-ORIGINAL-URL:http://hightowerbaptistchurch.com
X-WR-CALDESC:Events for Hightower Baptist Church
BEGIN:VEVENT
DTSTART;TZID=America/New_York:20220126T180000
DTEND;TZID=America/New_York:20220126T190000
DTSTAMP:20260424T201930
CREATED:20220103T174709Z
LAST-MODIFIED:20220103T174720Z
UID:4268-1643220000-1643223600@hightowerbaptistchurch.com
SUMMARY:Life Jr.
DESCRIPTION:Meal and devotion \n
URL:http://hightowerbaptistchurch.com/event/life-jr-3/
LOCATION:3444 Hightower Road\, Ball Ground\, GA\, 30107\, United States
END:VEVENT
END:VCALENDAR